BEGIN:VCALENDAR
VERSION:2.0
PRODID:-//wp-events-plugin.com//7.2.3.1//EN
TZID:America/New_York
X-WR-TIMEZONE:America/New_York
BEGIN:VEVENT
UID:7@shopnapolis.com
DTSTART;TZID=America/New_York:20230911T100000
DTEND;TZID=America/New_York:20230916T183000
DTSTAMP:20230908T124625Z
URL:https://shopnapolis.com/events/paige-denim-event/
SUMMARY:PAIGE DENIM EVENT
DESCRIPTION:\n\n&nbsp\;\n\nFrom September 11th through the 16th\, you can u
 se CODE: PAIGE23 for a discount on all Paige Denim.\n\nShop our Paige Deni
 m selection online here :https://shopnapolis.com/search-products/search?ke
 yword=PAIGE\n\n&nbsp\;\n\n&nbsp\;\n\n&nbsp\;
END:VEVENT
BEGIN:VTIMEZONE
TZID:America/New_York
X-LIC-LOCATION:America/New_York
BEGIN:DAYLIGHT
DTSTART:20230312T030000
TZOFFSETFROM:-0500
TZOFFSETTO:-0400
TZNAME:EDT
END:DAYLIGHT
END:VTIMEZONE
END:VCALENDAR